BEGIN:VCALENDAR
VERSION:2.0
PRODID:-//Lasting Support Foundation - ECPv6.15.17.1//NONSGML v1.0//EN
CALSCALE:GREGORIAN
METHOD:PUBLISH
X-ORIGINAL-URL:https://lastingsupportfoundation.org
X-WR-CALDESC:Events for Lasting Support Foundation
REFRESH-INTERVAL;VALUE=DURATION:PT1H
X-Robots-Tag:noindex
X-PUBLISHED-TTL:PT1H
BEGIN:VTIMEZONE
TZID:UTC
BEGIN:STANDARD
TZOFFSETFROM:+0000
TZOFFSETTO:+0000
TZNAME:UTC
DTSTART:20240101T000000
END:STANDARD
END:VTIMEZONE
BEGIN:VEVENT
DTSTART;TZID=UTC:20250213T120000
DTEND;TZID=UTC:20250226T143000
DTSTAMP:20260423T115056
CREATED:20250529T115127Z
LAST-MODIFIED:20250529T121129Z
UID:21464-1739448000-1740580200@lastingsupportfoundation.org
SUMMARY:Radicalisation & Neurodiversity Workshops (Hammersmith\, Fulham\, Kensington & Chelsea)
DESCRIPTION:Welcome to the Radicalisation & Neurodiversity workshops hosted by Lasting Support Services in collaboration with Hammersmith & Fulham Council and Kensington & Chelsea Council. \nJoin us for interactive online sessions on understanding and combating online radicalisation that targets neurodiverse children and young people. Our workshops will cover identifying extremist content\, what makes neurodivergent individuals susceptible to risk and how best to support neurodiverse individuals.
URL:https://lastingsupportfoundation.org/event/hf-and-kc-radicalisation-neurodiversity-workshops/
ATTACH;FMTTYPE=image/avif:https://lastingsupportfoundation.org/wp-content/uploads/2025/05/https-cdn.evbuc_.com-images-960801663-1278382732813-1-original.20250214-140017.avif
ORGANIZER;CN="Lasting Support":MAILTO:info@lastingsupportservices.com
END:VEVENT
END:VCALENDAR