BEGIN:VCALENDAR
VERSION:2.0
PRODID:-//Lasting Support Foundation - ECPv6.15.17.1//NONSGML v1.0//EN
CALSCALE:GREGORIAN
METHOD:PUBLISH
X-WR-CALNAME:Lasting Support Foundation
X-ORIGINAL-URL:https://lastingsupportfoundation.org
X-WR-CALDESC:Events for Lasting Support Foundation
REFRESH-INTERVAL;VALUE=DURATION:PT1H
X-Robots-Tag:noindex
X-PUBLISHED-TTL:PT1H
BEGIN:VTIMEZONE
TZID:UTC
BEGIN:STANDARD
TZOFFSETFROM:+0000
TZOFFSETTO:+0000
TZNAME:UTC
DTSTART:20240101T000000
END:STANDARD
END:VTIMEZONE
BEGIN:VTIMEZONE
TZID:UTC
BEGIN:STANDARD
TZOFFSETFROM:+0000
TZOFFSETTO:+0000
TZNAME:UTC
DTSTART:20240101T000000
END:STANDARD
END:VTIMEZONE
BEGIN:VEVENT
DTSTART;TZID=UTC:20250226T140000
DTEND;TZID=UTC:20250312T163000
DTSTAMP:20260423T114942
CREATED:20250529T115127Z
LAST-MODIFIED:20250529T120741Z
UID:21465-1740578400-1741797000@lastingsupportfoundation.org
SUMMARY:Radicalisation & Neurodiversity Workshops (Merton)
DESCRIPTION:Welcome to the Radicalisation & Neurodiversity workshops hosted by Lasting Support Services in collaboration with Merton Council. \nJoin us for interactive online sessions on understanding and combating online radicalisation that targets neurodiverse children and young people. Our workshops will cover identifying extremist content\, what makes neurodivergent individuals susceptible to risk and how best to support neurodiverse individuals.
URL:https://lastingsupportfoundation.org/event/merton-radicalisation-neurodiversity-workshops/
ATTACH;FMTTYPE=image/avif:https://lastingsupportfoundation.org/wp-content/uploads/2025/05/https-cdn.evbuc_.com-images-946467133-1278382732813-1-original.20250128-121454.avif
ORGANIZER;CN="Lasting Support":MAILTO:info@lastingsupportservices.com
END:VEVENT
BEGIN:VEVENT
DTSTART;TZID=UTC:20250303T100000
DTEND;TZID=UTC:20250313T003000
DTSTAMP:20260423T114942
CREATED:20250529T115127Z
LAST-MODIFIED:20250529T122030Z
UID:21467-1740996000-1741825800@lastingsupportfoundation.org
SUMMARY:Radicalisation & Neurodiversity Workshops (Hillingdon)
DESCRIPTION:Welcome to the Radicalisation & Neurodiversity workshops hosted by Lasting Support Services in collaboration with Hillingdon Council. \nJoin us for interactive online sessions on understanding and combating online radicalisation that targets neurodiverse children and young people. Our workshops will cover identifying extremist content\, what makes neurodivergent individuals susceptible to risk and how best to support neurodiverse individuals.
URL:https://lastingsupportfoundation.org/event/hillingdon-radicalisation-neurodiversity-workshops/
ATTACH;FMTTYPE=image/avif:https://lastingsupportfoundation.org/wp-content/uploads/2025/05/https-cdn.evbuc_.com-images-958111833-1278382732813-1-original.20250211-161759.avif
ORGANIZER;CN="Lasting Support":MAILTO:info@lastingsupportservices.com
END:VEVENT
END:VCALENDAR