BEGIN:VCALENDAR
VERSION:2.0
PRODID:-//Lasting Support Foundation - ECPv6.15.17.1//NONSGML v1.0//EN
CALSCALE:GREGORIAN
METHOD:PUBLISH
X-ORIGINAL-URL:https://lastingsupportfoundation.org
X-WR-CALDESC:Events for Lasting Support Foundation
REFRESH-INTERVAL;VALUE=DURATION:PT1H
X-Robots-Tag:noindex
X-PUBLISHED-TTL:PT1H
BEGIN:VTIMEZONE
TZID:UTC
BEGIN:STANDARD
TZOFFSETFROM:+0000
TZOFFSETTO:+0000
TZNAME:UTC
DTSTART:20240101T000000
END:STANDARD
END:VTIMEZONE
BEGIN:VEVENT
DTSTART;TZID=UTC:20250709T100000
DTEND;TZID=UTC:20250709T130000
DTSTAMP:20260423T065331
CREATED:20250529T124117Z
LAST-MODIFIED:20250617T155654Z
UID:21501-1752055200-1752066000@lastingsupportfoundation.org
SUMMARY:Lasting Support Radicalisation & Neurodiversity Workshop
DESCRIPTION:Back due to popular demand\, the Radicalisation & Neurodiversity workshop hosted by Lasting Support in collaboration with Westminister Council has returned for an additional session in July. \nJoin us for interactive online sessions on understanding and combating online radicalisation that targets neurodiverse children and young people. Our workshop will cover identifying extremist content\, what makes neurodivergent individuals susceptible to risk and how best to support neurodiverse individuals. \nOverview: \nNeurodivergent individuals — including those with autism\, ADHD\, and other cognitive differences — are increasingly being targeted by extremist groups through tailored online content and manipulation. Join us for a timely and practical workshop that explores the intersection between neurodiversity and radicalisation\, with a focus on safeguarding\, awareness\, and effective professional response. \nWhat We’ll Cover: \n\nEmerging online trends: A look at the most current content and tactics used by extremists to target neurodivergent individuals.\n\n\nHow algorithms and platforms enable grooming: Insight into the role of social media algorithms in amplifying harmful narratives and isolating vulnerable individuals.\n\n\nRecognising red flags: How to spot early signs of radicalisation\, grooming\, and ideological manipulation in neurodivergent populations.\n\n\nSafeguarding through inclusivity: Practical communication\, engagement\, and intervention strategies that respect neurodivergent needs.\n\n\nWhat professionals need to know: Up-to-date research\, case examples\, and a toolkit for those working in education\, health\, social care\, and law enforcement.\n\nWho Should Attend: \n\nTeachers and SEN staff\nYouth workers and early help professionals\nSocial workers and safeguarding leads\nMental health and support service providers\nPolice\, Prevent teams\, and community safety officers\nAnyone working with vulnerable or neurodiverse communities\n\nWhy You Should Attend: \n\nStay ahead of fast-evolving extremist tactics online\nLearn how to engage with digital spaces and protect those at risk critically\nBuild your confidence in recognising and responding to vulnerabilities specific to neurodivergent people\nNetwork with cross-sector professionals committed to inclusive safeguarding
URL:https://lastingsupportfoundation.org/event/lasting-support-radicalisation-neurodiversity-workshop-2/
LOCATION:Zoom
ATTACH;FMTTYPE=image/avif:https://lastingsupportfoundation.org/wp-content/uploads/2025/05/https-cdn.evbuc_.com-images-1038862053-1278382732813-1-original.20250526-095418.avif
ORGANIZER;CN="Lasting Support":MAILTO:info@lastingsupportservices.com
END:VEVENT
END:VCALENDAR