BEGIN:VCALENDAR
VERSION:2.0
PRODID:-//Lasting Support Foundation - ECPv6.15.17.1//NONSGML v1.0//EN
CALSCALE:GREGORIAN
METHOD:PUBLISH
X-WR-CALNAME:Lasting Support Foundation
X-ORIGINAL-URL:https://lastingsupportfoundation.org
X-WR-CALDESC:Events for Lasting Support Foundation
REFRESH-INTERVAL;VALUE=DURATION:PT1H
X-Robots-Tag:noindex
X-PUBLISHED-TTL:PT1H
BEGIN:VTIMEZONE
TZID:UTC
BEGIN:STANDARD
TZOFFSETFROM:+0000
TZOFFSETTO:+0000
TZNAME:UTC
DTSTART:20240101T000000
END:STANDARD
END:VTIMEZONE
BEGIN:VEVENT
DTSTART;TZID=UTC:20251120T170000
DTEND;TZID=UTC:20251120T193000
DTSTAMP:20260423T012722
CREATED:20250919T155430Z
LAST-MODIFIED:20250919T165946Z
UID:22769-1763658000-1763667000@lastingsupportfoundation.org
SUMMARY:Connecting Through The Arts Movie Premiere
DESCRIPTION:We are excited to invite you to the screening of our creative arts project\, a true testament to the power of community. Inspired by the BAFTA award-winning TV series “The Choir” by Gareth Malone\, this event showcases the collaborative efforts of families from Ealing. Together\, they have explored their personal experiences and perceptions of the borough\, expressing them through drama\, poetry\, and visual art as part of a Lasting Support community cohesion project. \nJoin us as we celebrate the creative journeys of both children and adults\, highlighting what they love about Ealing\, the challenges they face\, and their collective aspirations for the future. A filmmaker will present a captivating documentary of the co-creation process\, illustrating how the arts can foster community cohesion. \nDon’t miss this opportunity to witness the power of creativity in bringing people together! \nWe hope to see you there!
URL:https://lastingsupportfoundation.org/event/connecting-through-the-arts-movie-premiere/
LOCATION:Ealing Picturehouse\, Unit 8\, Unit 8 Filmworks Walk\, London\, W5 5FA\, United Kingdom
ATTACH;FMTTYPE=image/png:https://lastingsupportfoundation.org/wp-content/uploads/2025/09/How-to-talk-to-young-people-and-children-about-racism-and-anti-immigrant-protests-2.png
ORGANIZER;CN="Lasting Support":MAILTO:info@lastingsupportservices.com
END:VEVENT
END:VCALENDAR