BEGIN:VCALENDAR
VERSION:2.0
PRODID:-//Lasting Support Foundation - ECPv6.15.17.1//NONSGML v1.0//EN
CALSCALE:GREGORIAN
METHOD:PUBLISH
X-ORIGINAL-URL:https://lastingsupportfoundation.org
X-WR-CALDESC:Events for Lasting Support Foundation
REFRESH-INTERVAL;VALUE=DURATION:PT1H
X-Robots-Tag:noindex
X-PUBLISHED-TTL:PT1H
BEGIN:VTIMEZONE
TZID:UTC
BEGIN:STANDARD
TZOFFSETFROM:+0000
TZOFFSETTO:+0000
TZNAME:UTC
DTSTART:20240101T000000
END:STANDARD
END:VTIMEZONE
BEGIN:VTIMEZONE
TZID:UTC
BEGIN:STANDARD
TZOFFSETFROM:+0000
TZOFFSETTO:+0000
TZNAME:UTC
DTSTART:20240101T000000
END:STANDARD
END:VTIMEZONE
BEGIN:VEVENT
DTSTART;TZID=UTC:20250605T163000
DTEND;TZID=UTC:20250605T183000
DTSTAMP:20260422T234659
CREATED:20250528T200016Z
LAST-MODIFIED:20250528T200016Z
UID:21391-1749141000-1749148200@lastingsupportfoundation.org
SUMMARY:Building Bridges Volunteer & Impact Day
DESCRIPTION:Welcome to the Building Bridges Volunteer & Impact Day! Join us on Thursday\, June 5th 2025 at 16:30 at Parkside Yards for a day filled with community service and making a difference. This event is all about coming together to create a positive impact in our community. \nThis includes: \n\nUnderstand the impact of trauma and domestic violence (DV) on children.\nLearn about our Building Bridges programme and its growing need for support.\nAssemble Wellbeing Packs for children and families we work with.\nInspire future volunteers from psychology students\, social work students\, and care-experienced individuals.\n\nWhether you’re a seasoned volunteer or new to giving back\, there’s a place for everyone to contribute. Let’s work together to make a difference and facilitate connection and support. \nSee you there!
URL:https://lastingsupportfoundation.org/event/building-bridges-volunteer-impact-day/
LOCATION:Parkside Yards\, 1 Seva Drive\, Southall\, UB1 1GH\, United Kingdom
CATEGORIES:Donation,Education,Helping
ATTACH;FMTTYPE=image/png:https://lastingsupportfoundation.org/wp-content/uploads/2025/05/Eventbrite-Posters-17-scaled.png
ORGANIZER;CN="Lasting Support":MAILTO:info@lastingsupportservices.com
END:VEVENT
BEGIN:VEVENT
DTSTART;TZID=UTC:20250306T140000
DTEND;TZID=UTC:20250306T160000
DTSTAMP:20260422T234659
CREATED:20250529T115137Z
LAST-MODIFIED:20250617T170930Z
UID:21469-1741269600-1741276800@lastingsupportfoundation.org
SUMMARY:(Wandsworth) Radicalisation & Neurodiversity Workshops
DESCRIPTION:Welcome to the Radicalisation & Neurodiversity workshops hosted by Lasting Support Services in collaboration with Wandsworth. \nJoin us for interactive online sessions on understanding and combating online radicalisation that targets neurodiverse children and young people. Our workshops will cover identifying extremist content\, what makes neurodivergent individuals susceptible to risk and how best to support neurodiverse individuals.
URL:https://lastingsupportfoundation.org/event/wandsworth-radicalisation-neurodiversity-workshops/
LOCATION:Zoom
CATEGORIES:Education
ATTACH;FMTTYPE=image/png:https://lastingsupportfoundation.org/wp-content/uploads/2025/05/Screenshot-2025-06-17-at-18.07.50.png
ORGANIZER;CN="Lasting Support":MAILTO:info@lastingsupportservices.com
END:VEVENT
END:VCALENDAR