BEGIN:VCALENDAR
VERSION:2.0
PRODID:-//Lasting Support Foundation - ECPv6.15.17.1//NONSGML v1.0//EN
CALSCALE:GREGORIAN
METHOD:PUBLISH
X-WR-CALNAME:Lasting Support Foundation
X-ORIGINAL-URL:https://lastingsupportfoundation.org
X-WR-CALDESC:Events for Lasting Support Foundation
REFRESH-INTERVAL;VALUE=DURATION:PT1H
X-Robots-Tag:noindex
X-PUBLISHED-TTL:PT1H
BEGIN:VTIMEZONE
TZID:UTC
BEGIN:STANDARD
TZOFFSETFROM:+0000
TZOFFSETTO:+0000
TZNAME:UTC
DTSTART:20210101T000000
END:STANDARD
END:VTIMEZONE
BEGIN:VTIMEZONE
TZID:UTC
BEGIN:STANDARD
TZOFFSETFROM:+0000
TZOFFSETTO:+0000
TZNAME:UTC
DTSTART:20220101T000000
END:STANDARD
END:VTIMEZONE
BEGIN:VEVENT
DTSTART;TZID=UTC:20230921T161500
DTEND;TZID=UTC:20230921T184000
DTSTAMP:20260423T071127
CREATED:20250529T112904Z
LAST-MODIFIED:20250529T112904Z
UID:21399-1695312900-1695321600@lastingsupportfoundation.org
SUMMARY:BUILDING BRIDGES LAUNCH
DESCRIPTION:Welcome to Building Bridges\, a transformative initiative dedicated to minimizing the impact of domestic violence on children and young people while fostering emotional well-being\, resilience\, and stronger family bonds. Formerly known as Ealing Safe Spaces\, Building Bridges invites you to our launch event\, where we’ll introduce you to the life-changing work we do at Lasting Support Services. \nThis event is perfect for professionals and stakeholders interested in our services\, but it holds even greater significance for young people themselves and their families. Come and experience the support we offer firsthand. \nWhat to Expect: \n\n\nInspirational Guest Speakers: Hear from individuals with lived experiences who have triumphed over adversity\, offering insights and motivation. \n\n\nRefreshments and Creche support \n\n\nAdults will have the chance to inquire about specific sensitive matters in a private setting\, separate from the presence of children. \n\n\nSample of Therapeutic Approaches: Experience a preview of the therapeutic methods included in this service. During the launch event\, we will offer introductory sessions in group wellness\, sports\, and art therapies \n\n\nJoin us as we embark on a mission to create a world free from harm to children and young people. Your presence and participation are invaluable in building a brighter future for those we serve.
URL:https://lastingsupportfoundation.org/event/building-bridges-launch/
LOCATION:The Dominion Centre\, 112 The Green\, Southall\, London\, UB2 4BQ\, United Kingdom
ATTACH;FMTTYPE=image/jpeg:https://lastingsupportfoundation.org/wp-content/uploads/2025/05/1.jpg
ORGANIZER;CN="Lasting Support":MAILTO:info@lastingsupportservices.com
END:VEVENT
BEGIN:VEVENT
DTSTART;TZID=UTC:20230102T000000
DTEND;TZID=UTC:20230102T000000
DTSTAMP:20260423T071127
CREATED:20250529T115127Z
LAST-MODIFIED:20250902T115734Z
UID:21466-1672617600-1672617600@lastingsupportfoundation.org
SUMMARY:(Ealing) Radicalisation & Neurodiversity Workshops
DESCRIPTION:
URL:https://lastingsupportfoundation.org/event/ealing-radicalisation-neurodiversity-workshops/
END:VEVENT
BEGIN:VEVENT
DTSTART;TZID=UTC:20221213T110000
DTEND;TZID=UTC:20221213T110000
DTSTAMP:20260423T071127
CREATED:20250529T115107Z
LAST-MODIFIED:20250529T120336Z
UID:21454-1670929200-1670929200@lastingsupportfoundation.org
SUMMARY:The Last Taboo In Safeguarding
DESCRIPTION:Lambeth Town Hall \n\n\nThis workshop is ideal for foster carers\, youth workers\, PA’s\, residential staff\, and staff from the relevant voluntary sector. The training aims to demonstrate how developing trauma-responsive systems which are culturally informed\, can help build resilience against all forms of exploitation with a focus on the radicalization of looked-after young people. \n\nVenue is Lambeth town hall\, Report to reception upon arrival.\nRefreshments will be provided.\nSpaces are limited to 20 participants per session.\nThis program is jointly funded by Lambeth and Southwark council and is open to all front-line practitioners working with young people.\n\nThe issue of looked-after children as potential recruits for extremist groups has been largely overlooked\, despite the universal acknowledgement that looked-after children represent the most vulnerable of all demographics within society. Studies established that practitioners lacked basic awareness of radicalisation and extremism\, the Prevent strategy\, and the Channel programme. It was discovered that practitioners were unsure of what constitutes the potential indicators of radicalisation\, and how and to whom such concerns should be reported. It became apparent that radicalisation as a safeguarding and child protection issue has not been afforded a level of focus adequate and proportionate to the risk posed\, and that other issues\, namely child sexual exploitation. \nTraining facilitators: \n\nHannah Turner – Has worked in education and social care services since 2011. As a qualified Art Psychotherapist with a specialism in Looked-after adopted and Unaccompanied Asylum-seeking children and young people. As a therapist the main part of her role is to work with children\, young people and their carers/ parents and families to support mental health and improve outcomes. She also does lots of consultation-based sessions with social workers\, residential staff\, and many others within the professional network. Trauma is the focus within these settings. Understanding how it impacts the children and young people we with work so closely\, and how we can recognise the emotion behind their behaviors is pivotal to successful.\n\n\nOomar Shariff – Holds a qualification in Psychology\, Counselling- PTSD\, Mental health Counselling\, Conflict Resolution and Islamic Theology which has skilled him immensely to deliver and facilitate holding difficult conversations. A Global Facilitator\, Trainer & Consultant in Prevention and Counter Violence and Extremism for over a decade. He delivers interventions on Prevent cases and Desistance & Disengagement Programme which focuses on Rehabilitating individuals who have been involved in terrorism / terrorism-related activities.\n\nKey points covered in the workshop: \n\nIf adults involved with traumatised children are unable to manage their own emotions\, this can escalate children’s distress.\nEffective help requires intervention that is congruent with neuroscience\, developmentally relevant\, and relational.\nThe key adults in helping children recover from trauma are their carers and teachers. They require relevant support and training to be most helpful to traumatised children.\nCrisis-oriented care organizations may exacerbate trauma and undermine the efforts of committed practitioners.\nPost-traumatic growth and resilience is possible. Traumatised children need hope and adults involved with them must believe in a positive future for them.\nHow trauma can lead to violent extremism\, what does radicalisation look like and feel like?\nHow to adopt and apply trauma responsive systems to build resilience against radical exploitation within care settings.
URL:https://lastingsupportfoundation.org/event/the-last-taboo-in-safeguarding/
LOCATION:Lambeth Town Hall\, 1 Brixton Hill\, London\, SW2 1RW\, United Kingdom
ATTACH;FMTTYPE=image/avif:https://lastingsupportfoundation.org/wp-content/uploads/2025/05/https-cdn.evbuc_.com-images-396187519-1278382732813-1-original.20221118-180154.avif
ORGANIZER;CN="Lasting Support":MAILTO:info@lastingsupportservices.com
END:VEVENT
END:VCALENDAR